Workbook

Sheet HFTOPEN2023Kategorie
B1: S l o v a k A i r g u n F i e l d T a r g e t A s s o c i a t i o n
B2: Slovenská Vzduchovková Field Target Asociácia
B4: V ý s l e d k o v á L i s t i n a / R e s u l t s
B5: International Hunter Field Target Slovak Open 2023, Skýcov 28 - 29.10.2023
E7: PCP | H7: Výsledky / Results
B8: Poradie Rank | C8: Meno Name | D8: Priezvisko Surname | E8: Zbraň Rifle | F8: Puškohľad Riflescope | G8: Štát Country | H8: 1.deň Results 1st day | I8: 2.deň Results 2nd day | J8: Results Sum
A9: 12 | B9: 1 | C9: Sándor | D9: Szilágyi | E9: Walther LG300 | F9: Optisan Viper 10x44 IRS SCB | G9: HU | H9: 43 | I9: 44 | J9: =H9+I9 -> 87
A10: 11 | B10: 2 | C10: Milan | D10: Komoráš | E10: Walther LG300 | F10: Burris Timberline 4,5-14x32 | G10: SK | H10: 44 | I10: 42 | J10: =H10+I10 -> 86 | K10: po rozstrele
A11: 13 | B11: 3 | C11: István | D11: Sutyinszki | E11: Walther LG300 | F11: Falcon Endura S10i 1-10x24 | G11: HU | H11: 43 | I11: 43 | J11: =H11+I11 -> 86 | K11: po rozstrele
A12: 26 | B12: 4 - 5 | C12: Ferenc | D12: Kozma | E12: Walther LG400 | F12: March 1-10x24 | G12: HU | H12: 40 | I12: 41 | J12: =H12+I12 -> 81
A13: 14 | B13: 4 - 5 | C13: Jakub | D13: Vicher | E13: Walther LG300 | F13: Valiant 10x32 HFT | G13: CZ | H13: 39 | I13: 42 | J13: =H13+I13 -> 81
A14: 30 | B14: 6 | C14: Krzysztof | D14: Spaleniak | E14: Steyr Challenge FT | F14: Vortex Viper | G14: PL | H14: 41 | I14: 39 | J14: =H14+I14 -> 80
A15: 22 | B15: 7 | C15: Vladimír | D15: Tuček | E15: Walther LG300 | F15: Optisan CP 10x32 | G15: CZ | H15: 41 | I15: 38 | J15: =H15+I15 -> 79
A16: 15 | B16: 8 | C16: Vladimír | D16: Kvapil | E16: Steyr LG 110 | F16: Vortex Viper | G16: CZ | H16: 40 | I16: 37 | J16: =H16+I16 -> 77
A17: 3 | B17: 9 - 10 | C17: Frantisek | D17: Hulac | E17: Steyr Challenge FT TAU | F17: Valiant 10x32 | G17: SK | H17: 38 | I17: 38 | J17: =H17+I17 -> 76
A18: 5 | B18: 9 - 10 | C18: Ákos | D18: Osztafin | E18: Feinwerkbau 700 | F18: Hawke Airmax 2-7x32 | G18: HU | H18: 40 | I18: 36 | J18: =H18+I18 -> 76
A19: 21 | B19: 11 | C19: Jiří | D19: Vydařelý | E19: Air Arms EV2 | F19: Sightron SIH 4-12x40 FTMOA-20 | G19: CZ | H19: 37 | I19: 37 | J19: =H19+I19 -> 74
A20: 31 | B20: 12 | C20: Jiří | D20: Březina | E20: Feinwerkbau 800 FT | F20: MTC Viper Connect 3-12x24 | G20: CZ | H20: 39 | I20: 34 | J20: =H20+I20 -> 73
A21: 24 | B21: 13 - 14 | C21: János | D21: Veres | E21: Walther LG210 | F21: Airmax 2-7x32 | G21: HU | H21: 36 | I21: 33 | J21: =H21+I21 -> 69
A22: 1 | B22: 13 - 14 | C22: Martin | D22: Tarnoczi | E22: Air Arms S400 | F22: Valiant 10x32 | G22: SK | H22: 29 | I22: 40 | J22: =H22+I22 -> 69
A23: 2 | B23: 15 - 16 | C23: Ottó | D23: Kelemen | E23: Walther LG210 | F23: Hawke Airmax 2-7x32 | G23: HU | H23: 35 | I23: 33 | J23: =H23+I23 -> 68
A24: 27 | B24: 15 - 16 | C24: Pavol | D24: Telepak | E24: Air Arms S400 | F24: Optisan Viper 10x44 IRS SCB | G24: SK | H24: 35 | I24: 33 | J24: =H24+I24 -> 68
A25: 4 | B25: 17 - 18 | C25: Szilveszter | D25: Gecse | E25: Air Arms 500 | F25: Optisan evx 3-12x44 | G25: HU | H25: 30 | I25: 36 | J25: =H25+I25 -> 66
A26: 7 | B26: 17 - 18 | C26: Ján | D26: Vaľo | E26: Air Arms 900 FTP | F26: Optisan CP 3-12×32 | G26: SK | H26: 29 | I26: 37 | J26: =H26+I26 -> 66
A27: 6 | B27: 19 | C27: Marcel | D27: Žipaj | E27: Feinwerkbau 700 | F27: MTC Viper Connect 3-12x24 | G27: SK | H27: 32 | I27: 32 | J27: =H27+I27 -> 64
A28: 9 | B28: 20 - 21 | C28: Roman | D28: Polomsky | E28: Air Arms 500 | F28: Optisan CP 3-12×32 | G28: SK | H28: 32 | I28: 30 | J28: =H28+I28 -> 62
A29: 16 | B29: 20 - 21 | C29: Ferenc | D29: Tóth | E29: Steyr LG 110 | F29: EB 10/42 | G29: HU | H29: 30 | I29: 32 | J29: =H29+I29 -> 62
A30: 28 | B30: 22 | C30: Zbigniew | D30: Szewczyk | E30: Walther LG400 | F30: Falcon Endura S10i 1-10x24 | G30: PL | H30: 34 | I30: 27 | J30: =H30+I30 -> 61
A31: 17 | B31: 23 | C31: László | D31: Martinka | E31: Air Arms S400 | F31: Falcon Endura S10i 1-10x24 | G31: HU | H31: 25 | I31: 34 | J31: =H31+I31 -> 59
A32: 18 | B32: 24 | C32: Krzysztof | D32: Kowalczyk | E32: Walther LG400 | F32: March 1-10x24 | G32: PL | H32: 30 | I32: 28 | J32: =H32+I32 -> 58
A33: 29 | B33: 25 | C33: Henrich | D33: Nagy | E33: Walther LG400 | F33: MTC Viper Connect 3-12x24 | G33: SK | H33: 32 | I33: 25 | J33: =H33+I33 -> 57
A34: 25 | B34: 26 | C34: Péter | D34: Killik | E34: Walther LG300 | F34: Optisan evx 5-20X50 | G34: HU | H34: 23 | I34: 29 | J34: =H34+I34 -> 52
A35: 20 | B35: 27 | C35: Vladimír | D35: Šipoš | E35: Steyr | F35: Optisan CP 3-12×32 | G35: SK | H35: 24 | I35: 27 | J35: =H35+I35 -> 51
A36: 32 | B36: 28 | C36: Vladimír | D36: Majerčík | E36: Ataman M2 Sport FT | F36: Optisan CP 3-12×32 | G36: SK | H36: 30 | I36: 20 | J36: =H36+I36 -> 50
A37: 42 | B37: 29 | C37: Zsófia | D37: Dr Vigváry | E37: Air Arms S400 | F37: Vector Continental 2-16X44T | G37: HU | H37: 22 | I37: 26 | J37: =H37+I37 -> 48
A38: 23 | B38: 30 | C38: Dawid | D38: John | E38: Walther lgm2 | F38: Bushnell 4200m | G38: PL | H38: 24 | I38: 22 | J38: =H38+I38 -> 46
A39: 10 | B39: 31 | C39: Ivan | D39: Gašparík | E39: Air Arms S400 | F39: Cobra 3-9x42 | G39: SK | H39: 20 | I39: 18 | J39: =H39+I39 -> 38
A40: 8 | B40: 32 | C40: Jan | D40: Šuhajda | E40: Air Arms 500 | F40: Optisan CP 3-12×32 | G40: SK | H40: 18 | I40: 15 | J40: =H40+I40 -> 33
A41: 19 | B41: 33 | C41: Emil | D41: Tušik | E41: Tušík - inžiniering | F41: Iné/Others - zadaj ďalej / fill the following item | G41: SK | H41: 9 | I41: 12 | J41: =H41+I41 -> 21
A42: 34 | B42: 34 | J42: =H42+I42 -> 0
A43: 35 | B43: 35 | J43: =H43+I43 -> 0
J44: =H44+I44 -> 0
J45: =H45+I45 -> 0
E48: PRUŽINA / SPRINGER | H48: Výsledky / Results
B49: Poradie Rank | C49: Meno Name | D49: Priezvisko Surname | E49: Zbraň Rifle | F49: Optika Riflescope | G49: Štát Country | H49: 1.deň Results 1st day | I49: 2.deň Results 2nd day | J49: Results Sum
A50: 37 | B50: 1 | C50: György | D50: Nádasi | E50: Air Arms TX200 | F50: Optisan CP 3-12×32 | G50: HU | H50: 27 | I50: 25 | J50: =H50+I50 -> 52
A51: 38 | B51: 2 | C51: Rastislav | D51: Roďom | E51: Weihrauch HW 97 | F51: Sightron SIH-TAC 4-12x40 | G51: SK | H51: 26 | I51: 22 | J51: =H51+I51 -> 48
A52: 39 | B52: 3 | C52: Mihály György | D52: Tóth | E52: Air Arms TX200 | F52: Falcon Endura S10i 1-10x24 | G52: HU | H52: 24 | I52: 16 | J52: =H52+I52 -> 40
A53: 36 | B53: 4 | C53: Adam | D53: Hyska | E53: HW 98 | F53: Vortex Viper | G53: PL | H53: 17 | I53: 22 | J53: =H53+I53 -> 39
A54: 41 | B54: 5 | C54: Szabolcs | D54: Bella | E54: Weihrauch HW 97 | F54: Hawke Airmax 2-7x32 | G54: HU | H54: 16 | I54: 20 | J54: =H54+I54 -> 36
A55: 40 | B55: 6 | C55: Juraj | D55: Godor | E55: Weihrauch HW 97 | F55: Vortex 4-12x40 | G55: SK | H55: 15 | I55: 8 | J55: =H55+I55 -> 23
J56: =H56+I56 -> 0
J57: =H57+I57 -> 0
J58: =H58+I58 -> 0
J60: =H60+I60 -> 0
J61: =H61+I61 -> 0
J62: =H62+I62 -> 0
J63: =H63+I63 -> 0
E64: WOMAN / ŽENY | H64: Výsledky / Results
B65: Poradie Rank | C65: Meno Name | D65: Priezvisko Surname | E65: Zbraň Rifle | F65: Optika Riflescope | G65: Štát Country | H65: 1.deň Results 1st day | I65: 2.deň Results 2nd day | J65: Results Sum
J66: =H66+I66 -> 0
B67: 2 | J67: =H67+I67 -> 0
B68: 3 | J68: =H68+I68 -> 0
B69: 4 | J69: =H69+I69 -> 0
J70: =H70+I70 -> 0
J71: =H71+I71 -> 0
J72: =H72+I72 -> 0
J73: =H73+I73 -> 0
J74: =H74+I74 -> 0
J75: =H75+I75 -> 0
J76: =H76+I76 -> 0
J77: =H77+I77 -> 0
J78: =H78+I78 -> 0
J79: =H79+I79 -> 0
J80: =H80+I80 -> 0
J81: =H81+I81 -> 0
... J91: =H91+I91 -> 0
E93: JUNIOR | H93: Výsledky / Results
B94: Poradie Rank | C94: Meno Name | D94: Priezvisko Surname | E94: Zbraň Rifle | F94: Optika Riflescope | G94: Štát Country | H94: 1.deň Results 1st day | I94: 2.deň Results 2nd day | J94: Results Sum
B95: 1 | J95: =H95+I95 -> 0
B96: 2-3 | J96: =H96+I96 -> 0
B97: 2-3 | J97: =H97+I97 -> 0
B98: 4 | J98: =H98+I98 -> 0
B99: 5 | J99: =H99+I99 -> 0
B100: 6 | J100: =H100+I100 -> 0
J101: =H101+I101 -> 0
J102: =H102+I102 -> 0
J103: =H103+I103 -> 0
J104: =H104+I104 -> 0
E106: VETERÁN | H106: Výsledky / Results
B107: Poradie Rank | C107: Meno Name | D107: Priezvisko Surname | E107: Zbraň Rifle | F107: Optika Riflescope | G107: Štát Country | H107: 1.deň Results 1st day | I107: 2.deň Results 2nd day | J107: Results Sum
A108: 44 | B108: 1 | C108: Miroslav | D108: Trudič | E108: TAU 300 | F108: MTC Viper Connect 3-12x24 | G108: CZ | H108: 41 | I108: 38 | J108: =H108+I108 -> 79
A109: 45 | B109: 2 | C109: Petr | D109: Ratislav | E109: Air Arms S400 | F109: Vortex Viper | G109: CZ | H109: 39 | I109: 33 | J109: =H109+I109 -> 72
A110: 47 | B110: 3 | C110: Aleš | D110: Mikulecký | E110: Steyr LG 110 | F110: MTC Viper Connect 3-12x32 | G110: CZ | H110: 24 | I110: 29 | J110: =H110+I110 -> 53
A111: 48 | B111: 4 | C111: Martin | D111: Valchař | E111: Weihrauch HW 100T | F111: Meopta Meopro 4-9x42 MMD | G111: CZ | H111: 22 | I111: 30 | J111: =H111+I111 -> 52
A112: 49 | B112: 5 | C112: Oldřich | D112: Šimčík | E112: Steyr LG 110 | F112: Valiant 10x32 | G112: CZ | H112: 35 | I112: 15 | J112: =H112+I112 -> 50
A113: 46 | B113: 6 | C113: Istvan | D113: Toth | E113: Air Arms 500 | F113: Optisan EVE 4-16x44 | G113: HU | H113: 22 | I113: 28 | J113: =H113+I113 -> 50
A114: 43 | B114: 7 | C114: Marian | D114: Oršulík | E114: Česká Zbrojovka CZ 200S | F114: Sightron SIH-TAC 4-12x40 | G114: SK | H114: 10 | I114: 11 | J114: =H114+I114 -> 21
A115: 50 | J115: =H115+I115 -> 0
A116: 51 | J116: =H116+I116 -> 0
...

Sheet HFT OPEN 2023
B1: S l o v a k A i r g u n F i e l d T a r g e t A s s o c i a t i o n
B2: Slovenská Vzduchovková Field Target Asociácia
B4: V ý s l e d k o v á L i s t i n a / R e s u l t s
B5: International Hunter Field Target Slovak Open 2023, Skýcov 28 - 29.10.2023
I7: Výsledky / Results
B8: Poradie Rank | C8: Meno Name | D8: Priezvisko Surname | E8: Zbraň Rifle | F8: Puškohľad Riflescope | G8: Štát Country | H8: Kategoria Category | I8: 1.deň Results 1st day | J8: 2.deň Results 2nd day | K8: Results Sum
A9: 1 | B9: 1 | C9: Martin | D9: Tarnoczi | E9: Air Arms S400 | F9: Valiant 10x32 | G9: SK | H9: PCP | I9: =IF(A9="","",VLOOKUP(A9,HFTOPEN2023Kategorie!$A$9:$J$136,8,FALSE)) -> 29 | J9: =IF(A9="","",VLOOKUP(A9,HFTOPEN2023Kategorie!$A$9:$J$136,9,FALSE)) -> 40 | K9: =I9+J9 -> 69
A10: 2 | B10: 2 | C10: Ottó | D10: Kelemen | E10: Walther LG210 | F10: Hawke Airmax 2-7x32 | G10: HU | H10: PCP | I10: =IF(A10="","",VLOOKUP(A10,HFTOPEN2023Kategorie!$A$9:$J$136,8,FALSE)) -> 35 | J10: =IF(A10="","",VLOOKUP(A10,HFTOPEN2023Kategorie!$A$9:$J$136,9,FALSE)) -> 33 | K10: =I10+J10 -> 68
A11: 3 | B11: 3 | C11: Frantisek | D11: Hulac | E11: Steyr Challenge FT TAU | F11: Valiant 10x32 | G11: SK | H11: PCP | I11: =IF(A11="","",VLOOKUP(A11,HFTOPEN2023Kategorie!$A$9:$J$136,8,FALSE)) -> 38 | J11: =IF(A11="","",VLOOKUP(A11,HFTOPEN2023Kategorie!$A$9:$J$136,9,FALSE)) -> 38 | K11: =I11+J11 -> 76
A12: 4 | B12: 4 | C12: Szilveszter | D12: Gecse | E12: Air Arms 500 | F12: Optisan evx 3-12x44 | G12: HU | H12: PCP | I12: =IF(A12="","",VLOOKUP(A12,HFTOPEN2023Kategorie!$A$9:$J$136,8,FALSE)) -> 30 | J12: =IF(A12="","",VLOOKUP(A12,HFTOPEN2023Kategorie!$A$9:$J$136,9,FALSE)) -> 36 | K12: =I12+J12 -> 66
A13: 5 | B13: 5 | C13: Ákos | D13: Osztafin | E13: Feinwerkbau 700 | F13: Hawke Airmax 2-7x32 | G13: HU | H13: PCP | I13: =IF(A13="","",VLOOKUP(A13,HFTOPEN2023Kategorie!$A$9:$J$136,8,FALSE)) -> 40 | J13: =IF(A13="","",VLOOKUP(A13,HFTOPEN2023Kategorie!$A$9:$J$136,9,FALSE)) -> 36 | K13: =I13+J13 -> 76
A14: 6 | B14: 6 | C14: Marcel | D14: Žipaj | E14: Feinwerkbau 700 | F14: MTC Viper Connect 3-12x24 | G14: SK | H14: PCP | I14: =IF(A14="","",VLOOKUP(A14,HFTOPEN2023Kategorie!$A$9:$J$136,8,FALSE)) -> 32 | J14: =IF(A14="","",VLOOKUP(A14,HFTOPEN2023Kategorie!$A$9:$J$136,9,FALSE)) -> 32 | K14: =I14+J14 -> 64
A15: 7 | B15: 7 | C15: Ján | D15: Vaľo | E15: Air Arms 900 FTP | F15: Optisan CP 3-12×32 | G15: SK | H15: PCP | I15: =IF(A15="","",VLOOKUP(A15,HFTOPEN2023Kategorie!$A$9:$J$136,8,FALSE)) -> 29 | J15: =IF(A15="","",VLOOKUP(A15,HFTOPEN2023Kategorie!$A$9:$J$136,9,FALSE)) -> 37 | K15: =I15+J15 -> 66
A16: 8 | B16: 8 | C16: Jan | D16: Šuhajda | E16: Air Arms 500 | F16: Optisan CP 3-12×32 | G16: SK | H16: PCP | I16: =IF(A16="","",VLOOKUP(A16,HFTOPEN2023Kategorie!$A$9:$J$136,8,FALSE)) -> 18 | J16: =IF(A16="","",VLOOKUP(A16,HFTOPEN2023Kategorie!$A$9:$J$136,9,FALSE)) -> 15 | K16: =I16+J16 -> 33
A17: 9 | B17: 9 | C17: Roman | D17: Polomsky | E17: Air Arms 500 | F17: Optisan CP 3-12×32 | G17: SK | H17: PCP | I17: =IF(A17="","",VLOOKUP(A17,HFTOPEN2023Kategorie!$A$9:$J$136,8,FALSE)) -> 32 | J17: =IF(A17="","",VLOOKUP(A17,HFTOPEN2023Kategorie!$A$9:$J$136,9,FALSE)) -> 30 | K17: =I17+J17 -> 62
A18: 10 | B18: 10 | C18: Ivan | D18: Gašparík | E18: Air Arms S400 | F18: Cobra 3-9x42 | G18: SK | H18: PCP | I18: =IF(A18="","",VLOOKUP(A18,HFTOPEN2023Kategorie!$A$9:$J$136,8,FALSE)) -> 20 | J18: =IF(A18="","",VLOOKUP(A18,HFTOPEN2023Kategorie!$A$9:$J$136,9,FALSE)) -> 18 | K18: =I18+J18 -> 38
A19: 11 | B19: 11 | C19: Milan | D19: Komoráš | E19: Walther LG300 | F19: Burris Timberline 4,5-14x32 | G19: SK | H19: PCP | I19: =IF(A19="","",VLOOKUP(A19,HFTOPEN2023Kategorie!$A$9:$J$136,8,FALSE)) -> 44 | J19: =IF(A19="","",VLOOKUP(A19,HFTOPEN2023Kategorie!$A$9:$J$136,9,FALSE)) -> 42 | K19: =I19+J19 -> 86
A20: 12 | B20: 12 | C20: Sándor | D20: Szilágyi | E20: Walther LG300 | F20: Optisan Viper 10x44 IRS SCB | G20: HU | H20: PCP | I20: =IF(A20="","",VLOOKUP(A20,HFTOPEN2023Kategorie!$A$9:$J$136,8,FALSE)) -> 43 | J20: =IF(A20="","",VLOOKUP(A20,HFTOPEN2023Kategorie!$A$9:$J$136,9,FALSE)) -> 44 | K20: =I20+J20 -> 87
... A57: 52 | B57: 50 | C57: Zdenek | D57: Merkl | E57: Steyr LG 110 | F57: Nikko Stirling Diamond 10-50x60 "BigNikko" | G57: SK | H57: PCP FT | I57: =IF(A57="","",VLOOKUP(A57,HFTOPEN2023Kategorie!$A$9:$J$136,8,FALSE)) -> 0 | J57: =IF(A57="","",VLOOKUP(A57,HFTOPEN2023Kategorie!$A$9:$J$136,9,FALSE)) -> 0 | K57: =I57+J57 -> 0
B58: 51 | I58: =IF(A58="","",VLOOKUP(A58,HFTOPEN2023Kategorie!$A$9:$J$136,8,FALSE)) | J58: =IF(A58="","",VLOOKUP(A58,HFTOPEN2023Kategorie!$A$9:$J$136,9,FALSE)) | K58: =I58+J58 -> #VALUE!
B59: 52 | I59: =IF(A59="","",VLOOKUP(A59,HFTOPEN2023Kategorie!$A$9:$J$136,8,FALSE)) | J59: =IF(A59="","",VLOOKUP(A59,HFTOPEN2023Kategorie!$A$9:$J$136,9,FALSE)) | K59: =I59+J59 -> #VALUE!
B60: 53 | I60: =IF(A60="","",VLOOKUP(A60,HFTOPEN2023Kategorie!$A$9:$J$136,8,FALSE)) | J60: =IF(A60="","",VLOOKUP(A60,HFTOPEN2023Kategorie!$A$9:$J$136,9,FALSE)) | K60: =I60+J60 -> #VALUE!
B61: 54 | I61: =IF(A61="","",VLOOKUP(A61,HFTOPEN2023Kategorie!$A$9:$J$136,8,FALSE)) | J61: =IF(A61="","",VLOOKUP(A61,HFTOPEN2023Kategorie!$A$9:$J$136,9,FALSE)) | K61: =I61+J61 -> #VALUE!
B62: 55 | I62: =IF(A62="","",VLOOKUP(A62,HFTOPEN2023Kategorie!$A$9:$J$136,8,FALSE)) | J62: =IF(A62="","",VLOOKUP(A62,HFTOPEN2023Kategorie!$A$9:$J$136,9,FALSE)) | K62: =I62+J62 -> #VALUE!
B63: 57 | I63: =IF(A63="","",VLOOKUP(A63,HFTOPEN2023Kategorie!$A$9:$J$136,8,FALSE)) | J63: =IF(A63="","",VLOOKUP(A63,HFTOPEN2023Kategorie!$A$9:$J$136,9,FALSE)) | K63: =I63+J63 -> #VALUE!
B64: 58 | I64: =IF(A64="","",VLOOKUP(A64,HFTOPEN2023Kategorie!$A$9:$J$136,8,FALSE)) | J64: =IF(A64="","",VLOOKUP(A64,HFTOPEN2023Kategorie!$A$9:$J$136,9,FALSE)) | K64: =I64+J64 -> #VALUE!
B65: 59 | I65: =IF(A65="","",VLOOKUP(A65,HFTOPEN2023Kategorie!$A$9:$J$136,8,FALSE)) | J65: =IF(A65="","",VLOOKUP(A65,HFTOPEN2023Kategorie!$A$9:$J$136,9,FALSE)) | K65: =I65+J65 -> #VALUE!
B66: 60 | I66: =IF(A66="","",VLOOKUP(A66,HFTOPEN2023Kategorie!$A$9:$J$136,8,FALSE)) | J66: =IF(A66="","",VLOOKUP(A66,HFTOPEN2023Kategorie!$A$9:$J$136,9,FALSE)) | K66: =I66+J66 -> #VALUE!
B67: 61 | I67: =IF(A67="","",VLOOKUP(A67,HFTOPEN2023Kategorie!$A$9:$J$136,8,FALSE)) | J67: =IF(A67="","",VLOOKUP(A67,HFTOPEN2023Kategorie!$A$9:$J$136,9,FALSE)) | K67: =I67+J67 -> #VALUE!
B68: 62 | I68: =IF(A68="","",VLOOKUP(A68,HFTOPEN2023Kategorie!$A$9:$J$136,8,FALSE)) | J68: =IF(A68="","",VLOOKUP(A68,HFTOPEN2023Kategorie!$A$9:$J$136,9,FALSE)) | K68: =I68+J68 -> #VALUE!
B69: 63 | I69: =IF(A69="","",VLOOKUP(A69,HFTOPEN2023Kategorie!$A$9:$J$136,8,FALSE)) | J69: =IF(A69="","",VLOOKUP(A69,HFTOPEN2023Kategorie!$A$9:$J$136,9,FALSE)) | K69: =I69+J69 -> #VALUE!
... B74: 68 | I74: =IF(A74="","",VLOOKUP(A74,HFTOPEN2023Kategorie!$A$9:$J$136,8,FALSE)) | J74: =IF(A74="","",VLOOKUP(A74,HFTOPEN2023Kategorie!$A$9:$J$136,9,FALSE)) | K74: =I74+J74 -> #VALUE!
B75: 69
B76: 70
B77: 71 | I77: =IF(A77="","",VLOOKUP(A77,HFTOPEN2023Kategorie!$A$9:$J$136,8,FALSE)) | J77: =IF(A77="","",VLOOKUP(A77,HFTOPEN2023Kategorie!$A$9:$J$136,9,FALSE))
B78: 72 | I78: =IF(A78="","",VLOOKUP(A78,HFTOPEN2023Kategorie!$A$9:$J$136,8,FALSE)) | J78: =IF(A78="","",VLOOKUP(A78,HFTOPEN2023Kategorie!$A$9:$J$136,9,FALSE))
B79: 73 | I79: =IF(A79="","",VLOOKUP(A79,HFTOPEN2023Kategorie!$A$9:$J$136,8,FALSE)) | J79: =IF(A79="","",VLOOKUP(A79,HFTOPEN2023Kategorie!$A$9:$J$136,9,FALSE))
B80: 74 | I80: =IF(A80="","",VLOOKUP(A80,HFTOPEN2023Kategorie!$A$9:$J$136,8,FALSE)) | J80: =IF(A80="","",VLOOKUP(A80,HFTOPEN2023Kategorie!$A$9:$J$136,9,FALSE))
B81: 75 | I81: =IF(A81="","",VLOOKUP(A81,HFTOPEN2023Kategorie!$A$9:$J$136,8,FALSE)) | J81: =IF(A81="","",VLOOKUP(A81,HFTOPEN2023Kategorie!$A$9:$J$136,9,FALSE))
B82: 76 | I82: =IF(A82="","",VLOOKUP(A82,HFTOPEN2023Kategorie!$A$9:$J$136,8,FALSE)) | J82: =IF(A82="","",VLOOKUP(A82,HFTOPEN2023Kategorie!$A$9:$J$136,9,FALSE))

Sheet ZOZNAM
A1: Meno/Name: | B1: Priezvisko/Surname: | C1: Zbraň/Airgun: | D1: Optika/Riflescope: | E1: Štát/Country | F1: Kategória/Category: | G1: Strelivo - typ - kaliber/Pellets: | H1: Iné strelivo/Other pellets
A2: Martin | B2: Tarnoczi | C2: Air Arms S400 | D2: Valiant 10x32 | E2: SK | F2: PCP | G2: JSB Exact 4.52
A3: Ottó | B3: Kelemen | C3: Walther LG210 | D3: Hawke Airmax 2-7x32 | E3: HU | F3: PCP | G3: JSB Exact 4.52
A4: Frantisek | B4: Hulac | C4: Steyr Challenge FT TAU | D4: Valiant 10x32 | E4: SK | F4: PCP | G4: QYS
A5: Marian | B5: Oršulík | C5: Česká Zbrojovka CZ 200S | D5: Sightron SIH-TAC 4-12x40 | E5: SK | F5: Veteran | G5: JSB Exact 4.52
A6: Szilveszter | B6: Gecse | C6: Air Arms 500 | D6: Optisan evx 3-12x44 | E6: HU | F6: PCP | G6: JSB Exact 4.52
A7: Ákos | B7: Osztafin | C7: Feinwerkbau 700 | D7: Hawke Airmax 2-7x32 | E7: HU | F7: PCP | G7: JSB Exact 4.52
A8: Miroslav | B8: Trudič | C8: TAU 300 | D8: MTC Viper Connect 3-12x24 | E8: CZ | F8: Veteran | G8: JSB Exact 4.52
A9: Petr | B9: Ratislav | C9: Air Arms S400 | D9: Vortex Viper | E9: CZ | F9: Veteran | G9: JSB Exact 4.52
A10: Marcel | B10: Žipaj | C10: Feinwerkbau 700 | D10: MTC Viper Connect 3-12x24 | E10: SK | F10: PCP | G10: JSB Exact 4.52
A11: Ján | B11: Vaľo | C11: Air Arms 900 FTP | D11: Optisan CP 3-12×32 | E11: SK | F11: PCP | G11: JSB Exact 4.52
A12: Jan | B12: Šuhajda | C12: Air Arms 500 | D12: Optisan CP 3-12×32 | E12: SK | F12: PCP | G12: JSB Exact 4.52
A13: Roman | B13: Polomsky | C13: Air Arms 500 | D13: Optisan CP 3-12×32 | E13: SK | F13: PCP | G13: JSB Exact 4.52
... A50: Vladimír | B50: Majerčík | C50: Ataman M2 Sport FT | D50: Optisan CP 3-12×32 | E50: Velká Morava | F50: PCP | G50: QYS
